BEGIN:VCALENDAR
VERSION:2.0
PRODID:spatie/icalendar-generator
DESCRIPTION:株式会社シンドウのイベント
X-WR-CALDESC:株式会社シンドウのイベント
REFRESH-INTERVAL;VALUE=DURATION:PT1440M
X-PUBLISHED-TTL:PT1440M
BEGIN:VTIMEZONE
TZID:Asia/Tokyo
BEGIN:STANDARD
DTSTART:20240325T193000Z
TZOFFSETFROM:+0900
TZOFFSETTO:+0900
END:STANDARD
END:VTIMEZONE
BEGIN:VTIMEZONE
TZID:UTC
BEGIN:STANDARD
DTSTART:20250727T084711Z
TZOFFSETFROM:+0000
TZOFFSETTO:+0000
END:STANDARD
END:VTIMEZONE
BEGIN:VEVENT
UID:1-1
DTSTAMP:20260423T084711Z
SUMMARY:Demo: Florence Price: Symphony No. 3 in c minor
LOCATION:
ORGANIZER;CN=daiwa:MAILTO:web@daiwa777.co.jp
DTSTART;TZID=Asia/Tokyo:20241220T193000
DTEND;TZID=Asia/Tokyo:20241220T210000
X-ALT-DESC;FMTTYPE=TEXT/HTML:<p>Florence Price's Symphony No.3 was first pe
 rformed on November 6th\, 1940. It was Ms. Price's third symphony\, follow
 ing her lost Symphony No. 2</p>\n
CATEGORIES:holiday
URL;VALUE=URI:https://www.kkshindo.com/mc-events/demo-florence-price-sympho
 ny-no-3-in-c-minor/
METHOD:PUBLISH
END:VEVENT
END:VCALENDAR