BEGIN:VCALENDAR
VERSION:2.0
PRODID:spatie/icalendar-generator
DESCRIPTION:株式会社シンドウのイベント
X-WR-CALDESC:株式会社シンドウのイベント
REFRESH-INTERVAL;VALUE=DURATION:PT1440M
X-PUBLISHED-TTL:PT1440M
BEGIN:VTIMEZONE
TZID:Asia/Tokyo
BEGIN:STANDARD
DTSTART:20251227T000000Z
TZOFFSETFROM:+0900
TZOFFSETTO:+0900
END:STANDARD
END:VTIMEZONE
BEGIN:VTIMEZONE
TZID:UTC
BEGIN:STANDARD
DTSTART:20250726T111208Z
TZOFFSETFROM:+0000
TZOFFSETTO:+0000
END:STANDARD
END:VTIMEZONE
BEGIN:VEVENT
UID:489-14
DTSTAMP:20260422T111208Z
SUMMARY:9/23秋分の日
LOCATION:
ORGANIZER;CN=daiwa:MAILTO:web@daiwa777.co.jp
RRULE:FREQ=YEARLY;BYMONTH=09;BYDAY=23;COUNT=0
DTSTART;TZID=Asia/Tokyo;VALUE=DATE:20260923
DTEND;TZID=Asia/Tokyo;VALUE=DATE:20260924
X-ALT-DESC;FMTTYPE=TEXT/HTML:
CATEGORIES:holiday
URL;VALUE=URI:https://www.kkshindo.com/mc-events/9-23%e7%a7%8b%e5%88%86%e3%
 81%ae%e6%97%a5/?mc_id=489
METHOD:PUBLISH
END:VEVENT
END:VCALENDAR