BEGIN:VCALENDAR
VERSION:2.0
PRODID:spatie/icalendar-generator
DESCRIPTION:株式会社シンドウのイベント
X-WR-CALDESC:株式会社シンドウのイベント
REFRESH-INTERVAL;VALUE=DURATION:PT1440M
X-PUBLISHED-TTL:PT1440M
BEGIN:VTIMEZONE
TZID:Asia/Tokyo
BEGIN:STANDARD
DTSTART:20260802T000000Z
TZOFFSETFROM:+0900
TZOFFSETTO:+0900
END:STANDARD
END:VTIMEZONE
BEGIN:VTIMEZONE
TZID:UTC
BEGIN:STANDARD
DTSTART:20250726T220847Z
TZOFFSETFROM:+0000
TZOFFSETTO:+0000
END:STANDARD
END:VTIMEZONE
BEGIN:VEVENT
UID:336-8
DTSTAMP:20260422T220847Z
SUMMARY:昭和の日
LOCATION:
ORGANIZER;CN=daiwa:MAILTO:web@daiwa777.co.jp
RRULE:FREQ=YEARLY;BYMONTH=04;BYDAY=29;COUNT=0
DTSTART;TZID=Asia/Tokyo;VALUE=DATE:20270429
DTEND;TZID=Asia/Tokyo;VALUE=DATE:20270430
X-ALT-DESC;FMTTYPE=TEXT/HTML:
CATEGORIES:holiday
URL;VALUE=URI:https://www.kkshindo.com/mc-events/%e6%98%ad%e5%92%8c%e3%81%a
 e%e6%97%a5/?mc_id=336
METHOD:PUBLISH
END:VEVENT
END:VCALENDAR