BEGIN:VCALENDAR
VERSION:2.0
PRODID:spatie/icalendar-generator
DESCRIPTION:株式会社シンドウのイベント
X-WR-CALDESC:株式会社シンドウのイベント
REFRESH-INTERVAL;VALUE=DURATION:PT1440M
X-PUBLISHED-TTL:PT1440M
BEGIN:VTIMEZONE
TZID:Asia/Tokyo
BEGIN:STANDARD
DTSTART:20251225T000000Z
TZOFFSETFROM:+0900
TZOFFSETTO:+0900
END:STANDARD
END:VTIMEZONE
BEGIN:VTIMEZONE
TZID:UTC
BEGIN:STANDARD
DTSTART:20250726T084018Z
TZOFFSETFROM:+0000
TZOFFSETTO:+0000
END:STANDARD
END:VTIMEZONE
BEGIN:VEVENT
UID:619-21
DTSTAMP:20260422T084018Z
SUMMARY:敬老の日
LOCATION:
ORGANIZER;CN=daiwa:MAILTO:web@daiwa777.co.jp
DTSTART;TZID=Asia/Tokyo;VALUE=DATE:20260921
DTEND;TZID=Asia/Tokyo;VALUE=DATE:20260922
X-ALT-DESC;FMTTYPE=TEXT/HTML:
CATEGORIES:holiday
URL;VALUE=URI:https://www.kkshindo.com/mc-events/%e6%95%ac%e8%80%81%e3%81%a
 e%e6%97%a5/
METHOD:PUBLISH
END:VEVENT
END:VCALENDAR