BEGIN:VCALENDAR
VERSION:2.0
PRODID:spatie/icalendar-generator
DESCRIPTION:株式会社シンドウのイベント
X-WR-CALDESC:株式会社シンドウのイベント
REFRESH-INTERVAL;VALUE=DURATION:PT1440M
X-PUBLISHED-TTL:PT1440M
BEGIN:VTIMEZONE
TZID:Asia/Tokyo
BEGIN:STANDARD
DTSTART:20280806T000000Z
TZOFFSETFROM:+0900
TZOFFSETTO:+0900
END:STANDARD
END:VTIMEZONE
BEGIN:VTIMEZONE
TZID:UTC
BEGIN:STANDARD
DTSTART:20250727T033722Z
TZOFFSETFROM:+0000
TZOFFSETTO:+0000
END:STANDARD
END:VTIMEZONE
BEGIN:VEVENT
UID:106-9
DTSTAMP:20260423T033722Z
SUMMARY:憲法記念日
LOCATION:
ORGANIZER;CN=daiwa:MAILTO:web@daiwa777.co.jp
RRULE:FREQ=YEARLY;BYMONTH=05;BYDAY=03;COUNT=0
DTSTART;TZID=Asia/Tokyo;VALUE=DATE:20290503
DTEND;TZID=Asia/Tokyo;VALUE=DATE:20290504
X-ALT-DESC;FMTTYPE=TEXT/HTML:
CATEGORIES:holiday
URL;VALUE=URI:https://www.kkshindo.com/mc-events/%e6%86%b2%e6%b3%95%e8%a8%9
 8%e5%bf%b5%e6%97%a5/?mc_id=106
METHOD:PUBLISH
END:VEVENT
END:VCALENDAR