BEGIN:VCALENDAR
VERSION:2.0
PRODID:spatie/icalendar-generator
DESCRIPTION:株式会社シンドウのイベント
X-WR-CALDESC:株式会社シンドウのイベント
REFRESH-INTERVAL;VALUE=DURATION:PT1440M
X-PUBLISHED-TTL:PT1440M
BEGIN:VTIMEZONE
TZID:Asia/Tokyo
BEGIN:STANDARD
DTSTART:20250405T000000Z
TZOFFSETFROM:+0900
TZOFFSETTO:+0900
END:STANDARD
END:VTIMEZONE
BEGIN:VTIMEZONE
TZID:UTC
BEGIN:STANDARD
DTSTART:20250726T111101Z
TZOFFSETFROM:+0000
TZOFFSETTO:+0000
END:STANDARD
END:VTIMEZONE
BEGIN:VEVENT
UID:604-25
DTSTAMP:20260422T111101Z
SUMMARY:年末年始休業
LOCATION:
ORGANIZER;CN=daiwa:MAILTO:web@daiwa777.co.jp
RRULE:FREQ=YEARLY;BYMONTH=12;BYDAY=31;UNTIL=20351231T000000Z
DTSTART;TZID=Asia/Tokyo;VALUE=DATE:20251231
DTEND;TZID=Asia/Tokyo;VALUE=DATE:20260101
X-ALT-DESC;FMTTYPE=TEXT/HTML:
CATEGORIES:holiday
URL;VALUE=URI:https://www.kkshindo.com/mc-events/%e5%b9%b4%e6%9c%ab%e5%b9%b
 4%e5%a7%8b%e4%bc%91%e6%a5%ad/?mc_id=604
METHOD:PUBLISH
END:VEVENT
END:VCALENDAR