BEGIN:VCALENDAR
VERSION:2.0
PRODID:spatie/icalendar-generator
DESCRIPTION:株式会社シンドウのイベント
X-WR-CALDESC:株式会社シンドウのイベント
REFRESH-INTERVAL;VALUE=DURATION:PT1440M
X-PUBLISHED-TTL:PT1440M
BEGIN:VTIMEZONE
TZID:Asia/Tokyo
BEGIN:STANDARD
DTSTART:20281114T000000Z
TZOFFSETFROM:+0900
TZOFFSETTO:+0900
END:STANDARD
END:VTIMEZONE
BEGIN:VTIMEZONE
TZID:UTC
BEGIN:STANDARD
DTSTART:20250727T073843Z
TZOFFSETFROM:+0000
TZOFFSETTO:+0000
END:STANDARD
END:VTIMEZONE
BEGIN:VEVENT
UID:440-12
DTSTAMP:20260423T073843Z
SUMMARY:山の日
LOCATION:
ORGANIZER;CN=daiwa:MAILTO:web@daiwa777.co.jp
RRULE:FREQ=YEARLY;BYMONTH=08;BYDAY=11;COUNT=0
DTSTART;TZID=Asia/Tokyo;VALUE=DATE:20290811
DTEND;TZID=Asia/Tokyo;VALUE=DATE:20290812
X-ALT-DESC;FMTTYPE=TEXT/HTML:
CATEGORIES:holiday
URL;VALUE=URI:https://www.kkshindo.com/mc-events/%e5%b1%b1%e3%81%ae%e6%97%a
 5/?mc_id=440
METHOD:PUBLISH
END:VEVENT
END:VCALENDAR