BEGIN:VCALENDAR
VERSION:2.0
PRODID:spatie/icalendar-generator
DESCRIPTION:株式会社シンドウのイベント
X-WR-CALDESC:株式会社シンドウのイベント
REFRESH-INTERVAL;VALUE=DURATION:PT1440M
X-PUBLISHED-TTL:PT1440M
BEGIN:VTIMEZONE
TZID:Asia/Tokyo
BEGIN:STANDARD
DTSTART:20241116T000000Z
TZOFFSETFROM:+0900
TZOFFSETTO:+0900
END:STANDARD
END:VTIMEZONE
BEGIN:VTIMEZONE
TZID:UTC
BEGIN:STANDARD
DTSTART:20250726T085709Z
TZOFFSETFROM:+0000
TZOFFSETTO:+0000
END:STANDARD
END:VTIMEZONE
BEGIN:VEVENT
UID:600-24
DTSTAMP:20260422T085709Z
SUMMARY:夏季休業
LOCATION:
ORGANIZER;CN=daiwa:MAILTO:web@daiwa777.co.jp
DTSTART;TZID=Asia/Tokyo;VALUE=DATE:20250813
DTEND;TZID=Asia/Tokyo;VALUE=DATE:20250814
X-ALT-DESC;FMTTYPE=TEXT/HTML:
CATEGORIES:holiday
URL;VALUE=URI:https://www.kkshindo.com/mc-events/%e5%a4%8f%e5%ad%a3%e4%bc%9
 1%e6%a5%ad/
METHOD:PUBLISH
END:VEVENT
END:VCALENDAR