BEGIN:VCALENDAR
VERSION:2.0
PRODID:spatie/icalendar-generator
DESCRIPTION:株式会社シンドウのイベント
X-WR-CALDESC:株式会社シンドウのイベント
REFRESH-INTERVAL;VALUE=DURATION:PT1440M
X-PUBLISHED-TTL:PT1440M
BEGIN:VTIMEZONE
TZID:Asia/Tokyo
BEGIN:STANDARD
DTSTART:20280808T000000Z
TZOFFSETFROM:+0900
TZOFFSETTO:+0900
END:STANDARD
END:VTIMEZONE
BEGIN:VTIMEZONE
TZID:UTC
BEGIN:STANDARD
DTSTART:20250727T060852Z
TZOFFSETFROM:+0000
TZOFFSETTO:+0000
END:STANDARD
END:VTIMEZONE
BEGIN:VEVENT
UID:238-11
DTSTAMP:20260423T060852Z
SUMMARY:こどもの日
LOCATION:
ORGANIZER;CN=daiwa:MAILTO:web@daiwa777.co.jp
RRULE:FREQ=YEARLY;BYMONTH=05;BYDAY=05;COUNT=0
DTSTART;TZID=Asia/Tokyo;VALUE=DATE:20290505
DTEND;TZID=Asia/Tokyo;VALUE=DATE:20290506
X-ALT-DESC;FMTTYPE=TEXT/HTML:
CATEGORIES:holiday
URL;VALUE=URI:https://www.kkshindo.com/mc-events/%e3%81%93%e3%81%a9%e3%82%8
 2%e3%81%ae%e6%97%a5/?mc_id=238
METHOD:PUBLISH
END:VEVENT
END:VCALENDAR